BEGIN:VCALENDAR
VERSION:2.0
PRODID:-//Groundswell Scotland - ECPv6.15.20//NONSGML v1.0//EN
CALSCALE:GREGORIAN
METHOD:PUBLISH
X-WR-CALNAME:Groundswell Scotland
X-ORIGINAL-URL:https://groundswell-scotland.org
X-WR-CALDESC:Events for Groundswell Scotland
REFRESH-INTERVAL;VALUE=DURATION:PT1H
X-Robots-Tag:noindex
X-PUBLISHED-TTL:PT1H
BEGIN:VTIMEZONE
TZID:Europe/London
BEGIN:DAYLIGHT
TZOFFSETFROM:+0000
TZOFFSETTO:+0100
TZNAME:BST
DTSTART:20250330T010000
END:DAYLIGHT
BEGIN:STANDARD
TZOFFSETFROM:+0100
TZOFFSETTO:+0000
TZNAME:GMT
DTSTART:20251026T010000
END:STANDARD
BEGIN:DAYLIGHT
TZOFFSETFROM:+0000
TZOFFSETTO:+0100
TZNAME:BST
DTSTART:20260329T010000
END:DAYLIGHT
BEGIN:STANDARD
TZOFFSETFROM:+0100
TZOFFSETTO:+0000
TZNAME:GMT
DTSTART:20261025T010000
END:STANDARD
BEGIN:DAYLIGHT
TZOFFSETFROM:+0000
TZOFFSETTO:+0100
TZNAME:BST
DTSTART:20270328T010000
END:DAYLIGHT
BEGIN:STANDARD
TZOFFSETFROM:+0100
TZOFFSETTO:+0000
TZNAME:GMT
DTSTART:20271031T010000
END:STANDARD
END:VTIMEZONE
BEGIN:VEVENT
DTSTART;TZID=Europe/London:20260422T100000
DTEND;TZID=Europe/London:20260422T120000
DTSTAMP:20260422T164621
CREATED:20260331T094857Z
LAST-MODIFIED:20260331T094857Z
UID:3894-1776852000-1776859200@groundswell-scotland.org
SUMMARY:Waves for Wellbeing
DESCRIPTION:
URL:https://groundswell-scotland.org/event/waves-for-wellbeing-2/
LOCATION:Shore Road\, Dunbar\, Shore Road Car Park\, Belhaven\, East Lothian\, EH41 1NX\, United Kingdom
ATTACH;FMTTYPE=image/png:https://groundswell-scotland.org/wp-content/uploads/2026/03/Screenshot-2025-10-17-at-20.21.26.png
ORGANIZER;CN="Groundswell Scotland":MAILTO:rrobertson@groundswellcommunity.org
END:VEVENT
END:VCALENDAR